Package: CNVrd2 Version: 1.45.0 Command: /Library/Frameworks/R.framework/Resources/bin/R CMD build --keep-empty-dirs --no-resave-data CNVrd2 StartedAt: 2025-02-03 16:22:19 -0500 (Mon, 03 Feb 2025) EndedAt: 2025-02-03 16:23:44 -0500 (Mon, 03 Feb 2025) EllapsedTime: 85.7 seconds RetCode: 0 Status: OK PackageFile: CNVrd2_1.45.0.tar.gz PackageFileSize: 2.825 MiB