Package: CNVrd2 Version: 1.45.0 Command: /Library/Frameworks/R.framework/Resources/bin/R CMD INSTALL CNVrd2 StartedAt: 2025-02-03 15:46:17 -0500 (Mon, 03 Feb 2025) EndedAt: 2025-02-03 15:46:34 -0500 (Mon, 03 Feb 2025) EllapsedTime: 16.8 seconds RetCode: 0 Status: OK