Package: CNVrd2 Version: 1.47.0 Command: /Library/Frameworks/R.framework/Resources/bin/R CMD check --install=check:CNVrd2.install-out.txt --library=/Library/Frameworks/R.framework/Resources/library --no-vignettes --timings CNVrd2_1.47.0.tar.gz StartedAt: 2025-04-28 19:13:02 -0400 (Mon, 28 Apr 2025) EndedAt: 2025-04-28 19:14:07 -0400 (Mon, 28 Apr 2025) EllapsedTime: 65.8 seconds RetCode: 0 Status: OK CheckDir: CNVrd2.Rcheck Warnings: 0