Package: CNVrd2 Version: 1.47.0 Command: /Library/Frameworks/R.framework/Resources/bin/R CMD build --keep-empty-dirs --no-resave-data CNVrd2 StartedAt: 2025-04-28 15:56:32 -0400 (Mon, 28 Apr 2025) EndedAt: 2025-04-28 15:57:08 -0400 (Mon, 28 Apr 2025) EllapsedTime: 35.4 seconds RetCode: 0 Status: OK PackageFile: CNVrd2_1.47.0.tar.gz PackageFileSize: 2.825 MiB