Package: CNVrd2 Version: 1.47.0 Command: rm -rf CNVrd2.buildbin-libdir && mkdir CNVrd2.buildbin-libdir && /Users/biocbuild/BBS/utils/build-universal.sh CNVrd2_1.47.0.tar.gz /Library/Frameworks/R.framework/Resources/bin/R CNVrd2.buildbin-libdir StartedAt: 2025-04-28 22:49:18 -0400 (Mon, 28 Apr 2025) EndedAt: 2025-04-28 22:49:36 -0400 (Mon, 28 Apr 2025) EllapsedTime: 18.4 seconds RetCode: 0 Status: OK PackageFile: CNVrd2_1.47.0.tgz PackageFileSize: 2.926 MiB