Package: CNViz Version: 1.17.0 Command: /home/biocbuild/bbs-3.22-bioc/R/bin/R CMD build --keep-empty-dirs --no-resave-data --md5 CNViz StartedAt: 2025-10-02 16:53:28 -0400 (Thu, 02 Oct 2025) EndedAt: 2025-10-02 16:54:30 -0400 (Thu, 02 Oct 2025) EllapsedTime: 62.0 seconds RetCode: 0 Status: OK PackageFile: CNViz_1.17.0.tar.gz PackageFileSize: 116.6 KiB