Package: CNVRanger Version: 1.25.4 Command: /home/biocbuild/R/R/bin/R CMD build --keep-empty-dirs --no-resave-data CNVRanger StartedAt: 2025-10-06 22:44:54 -0000 (Mon, 06 Oct 2025) EndedAt: 2025-10-06 22:49:41 -0000 (Mon, 06 Oct 2025) EllapsedTime: 287.1 seconds RetCode: 0 Status: OK PackageFile: CNVRanger_1.25.4.tar.gz PackageFileSize: 1.776 MiB