Package: CNVRanger Version: 1.25.4 Command: chmod a+r CNVRanger -R && F:\biocbuild\bbs-3.22-bioc\R\bin\R.exe CMD build --keep-empty-dirs --no-resave-data CNVRanger StartedAt: 2025-08-14 19:13:46 -0400 (Thu, 14 Aug 2025) EndedAt: 2025-08-14 19:18:39 -0400 (Thu, 14 Aug 2025) EllapsedTime: 293.7 seconds RetCode: 0 Status: OK PackageFile: CNVRanger_1.25.4.tar.gz PackageFileSize: 1.734 MiB