Package: CNVPanelizer Version: 1.41.0 Command: /home/biocbuild/R/R/bin/R CMD build --keep-empty-dirs --no-resave-data CNVPanelizer StartedAt: 2025-10-06 22:44:43 -0000 (Mon, 06 Oct 2025) EndedAt: 2025-10-06 22:46:39 -0000 (Mon, 06 Oct 2025) EllapsedTime: 116.0 seconds RetCode: 0 Status: OK PackageFile: CNVPanelizer_1.41.0.tar.gz PackageFileSize: 356.3 KiB