Package: CNVPanelizer Version: 1.41.0 Command: /home/biocbuild/bbs-3.22-bioc/R/bin/R CMD INSTALL CNVPanelizer StartedAt: 2025-10-23 15:16:31 -0400 (Thu, 23 Oct 2025) EndedAt: 2025-10-23 15:16:52 -0400 (Thu, 23 Oct 2025) EllapsedTime: 21.7 seconds RetCode: 0 Status: OK