Package: CNVPanelizer Version: 1.41.0 Maintainer: Thomas Wolf MaintainerEmail: thomas_wolf71 at gmx.de git_url: https://git.bioconductor.org/packages/CNVPanelizer git_branch: devel git_last_commit: 6b2ceba git_last_commit_date: 2025-04-15 10:51:50 -0400 (Tue, 15 Apr 2025)