Package: CNTools Version: 1.65.0 Command: chmod a+r CNTools -R && F:\biocbuild\bbs-3.22-bioc\R\bin\R.exe CMD build --keep-empty-dirs --no-resave-data CNTools StartedAt: 2025-08-14 19:13:13 -0400 (Thu, 14 Aug 2025) EndedAt: 2025-08-14 19:13:59 -0400 (Thu, 14 Aug 2025) EllapsedTime: 46.4 seconds RetCode: 0 Status: OK PackageFile: CNTools_1.65.0.tar.gz PackageFileSize: 868 KiB