Package: CNTools Version: 1.67.0 Command: /home/biocbuild/bbs-3.23-bioc/R/bin/R CMD INSTALL CNTools StartedAt: 2025-11-17 15:29:01 -0500 (Mon, 17 Nov 2025) EndedAt: 2025-11-17 15:29:19 -0500 (Mon, 17 Nov 2025) EllapsedTime: 18.0 seconds RetCode: 0 Status: OK