Package: CNTools Version: 1.65.0 Command: /Library/Frameworks/R.framework/Resources/bin/R CMD INSTALL CNTools StartedAt: 2025-10-23 15:09:42 -0400 (Thu, 23 Oct 2025) EndedAt: 2025-10-23 15:09:50 -0400 (Thu, 23 Oct 2025) EllapsedTime: 8.0 seconds RetCode: 0 Status: OK