Package: CNTools Version: 1.65.0 Command: /Library/Frameworks/R.framework/Resources/bin/R CMD build --keep-empty-dirs --no-resave-data CNTools StartedAt: 2025-10-23 15:58:45 -0400 (Thu, 23 Oct 2025) EndedAt: 2025-10-23 15:58:57 -0400 (Thu, 23 Oct 2025) EllapsedTime: 12.1 seconds RetCode: 0 Status: OK PackageFile: CNTools_1.65.0.tar.gz PackageFileSize: 959.2 KiB