Package: CNORode Version: 1.51.0 Command: rm -rf CNORode.buildbin-libdir && mkdir CNORode.buildbin-libdir && F:\biocbuild\bbs-3.22-bioc\R\bin\R.exe CMD INSTALL --build --library=CNORode.buildbin-libdir CNORode_1.51.0.tar.gz StartedAt: 2025-08-15 09:59:35 -0400 (Fri, 15 Aug 2025) EndedAt: 2025-08-15 10:00:18 -0400 (Fri, 15 Aug 2025) EllapsedTime: 43.7 seconds RetCode: 0 Status: OK PackageFile: CNORode_1.51.0.zip PackageFileSize: 303.9 KiB