Package: CNORfuzzy Version: 1.51.0 Command: /Library/Frameworks/R.framework/Resources/bin/R CMD INSTALL CNORfuzzy StartedAt: 2025-04-28 15:18:00 -0400 (Mon, 28 Apr 2025) EndedAt: 2025-04-28 15:18:14 -0400 (Mon, 28 Apr 2025) EllapsedTime: 14.4 seconds RetCode: 0 Status: OK