Package: CNORfuzzy Version: 1.51.0 Command: /Library/Frameworks/R.framework/Resources/bin/R CMD check --install=check:CNORfuzzy.install-out.txt --library=/Library/Frameworks/R.framework/Resources/library --no-vignettes --timings CNORfuzzy_1.51.0.tar.gz StartedAt: 2025-04-29 19:45:43 -0400 (Tue, 29 Apr 2025) EndedAt: 2025-04-29 19:47:05 -0400 (Tue, 29 Apr 2025) EllapsedTime: 81.4 seconds RetCode: 0 Status: OK CheckDir: CNORfuzzy.Rcheck Warnings: 0