Package: CNORfuzzy Version: 1.51.0 Command: /Library/Frameworks/R.framework/Resources/bin/R CMD build --keep-empty-dirs --no-resave-data CNORfuzzy StartedAt: 2025-04-29 16:19:43 -0400 (Tue, 29 Apr 2025) EndedAt: 2025-04-29 16:20:15 -0400 (Tue, 29 Apr 2025) EllapsedTime: 32.0 seconds RetCode: 0 Status: OK PackageFile: CNORfuzzy_1.51.0.tar.gz PackageFileSize: 921.3 KiB