Package: CNORfuzzy Version: 1.51.0 Command: rm -rf CNORfuzzy.buildbin-libdir && mkdir CNORfuzzy.buildbin-libdir && /Users/biocbuild/BBS/utils/build-universal.sh CNORfuzzy_1.51.0.tar.gz /Library/Frameworks/R.framework/Resources/bin/R CNORfuzzy.buildbin-libdir StartedAt: 2025-04-30 00:34:13 -0400 (Wed, 30 Apr 2025) EndedAt: 2025-04-30 00:34:33 -0400 (Wed, 30 Apr 2025) EllapsedTime: 19.6 seconds RetCode: 0 Status: OK PackageFile: CNORfuzzy_1.51.0.tgz PackageFileSize: 691.7 KiB