Package: CNORfuzzy Version: 1.51.0 Command: /Library/Frameworks/R.framework/Resources/bin/R CMD INSTALL CNORfuzzy StartedAt: 2025-05-09 15:08:31 -0400 (Fri, 09 May 2025) EndedAt: 2025-05-09 15:08:36 -0400 (Fri, 09 May 2025) EllapsedTime: 4.2 seconds RetCode: 0 Status: OK