Package: CNORdt Version: 1.49.0 Command: E:\biocbuild\bbs-3.21-bioc\R\bin\R.exe CMD check --no-multiarch --install=check:CNORdt.install-out.txt --library=E:\biocbuild\bbs-3.21-bioc\R\library --no-vignettes --timings CNORdt_1.49.0.tar.gz StartedAt: 2025-02-14 23:50:11 -0500 (Fri, 14 Feb 2025) EndedAt: 2025-02-14 23:52:19 -0500 (Fri, 14 Feb 2025) EllapsedTime: 128.3 seconds RetCode: 0 Status: OK CheckDir: CNORdt.Rcheck Warnings: 0