Package: CNORdt Version: 1.51.0 Command: /home/biocbuild/bbs-3.22-bioc/R/bin/R CMD INSTALL CNORdt StartedAt: 2025-10-03 15:14:10 -0400 (Fri, 03 Oct 2025) EndedAt: 2025-10-03 15:14:18 -0400 (Fri, 03 Oct 2025) EllapsedTime: 8.6 seconds RetCode: 0 Status: OK