Package: CNORdt Version: 1.51.0 Command: /home/biocbuild/bbs-3.22-bioc/R/bin/R CMD build --keep-empty-dirs --no-resave-data --md5 CNORdt StartedAt: 2025-10-03 16:50:51 -0400 (Fri, 03 Oct 2025) EndedAt: 2025-10-03 16:51:34 -0400 (Fri, 03 Oct 2025) EllapsedTime: 43.0 seconds RetCode: 0 Status: OK PackageFile: CNORdt_1.51.0.tar.gz PackageFileSize: 320.5 KiB