Package: CNORdt Version: 1.49.0 Command: /home/biocbuild/bbs-3.21-bioc/R/bin/R CMD build --keep-empty-dirs --no-resave-data CNORdt StartedAt: 2025-02-14 16:35:34 -0500 (Fri, 14 Feb 2025) EndedAt: 2025-02-14 16:36:16 -0500 (Fri, 14 Feb 2025) EllapsedTime: 42.0 seconds RetCode: 0 Status: OK PackageFile: CNORdt_1.49.0.tar.gz PackageFileSize: 319.4 KiB