Package: CNAnorm Version: 1.55.0 Command: chmod a+r CNAnorm -R && F:\biocbuild\bbs-3.22-bioc\R\bin\R.exe CMD build --keep-empty-dirs --no-resave-data CNAnorm StartedAt: 2025-08-14 19:12:15 -0400 (Thu, 14 Aug 2025) EndedAt: 2025-08-14 19:13:07 -0400 (Thu, 14 Aug 2025) EllapsedTime: 52.1 seconds RetCode: 0 Status: OK PackageFile: CNAnorm_1.55.0.tar.gz PackageFileSize: 1.412 MiB