Package: CMA Version: 1.67.0 Command: rm -rf CMA.buildbin-libdir && mkdir CMA.buildbin-libdir && F:\biocbuild\bbs-3.22-bioc\R\bin\R.exe CMD INSTALL --build --library=CMA.buildbin-libdir CMA_1.67.0.tar.gz StartedAt: 2025-08-15 09:59:10 -0400 (Fri, 15 Aug 2025) EndedAt: 2025-08-15 10:00:00 -0400 (Fri, 15 Aug 2025) EllapsedTime: 50.0 seconds RetCode: 0 Status: OK PackageFile: CMA_1.67.0.zip PackageFileSize: 1.722 MiB