Package: CINdex Version: 1.35.0 Command: /Library/Frameworks/R.framework/Resources/bin/R CMD build --keep-empty-dirs --no-resave-data CINdex StartedAt: 2025-02-03 16:19:30 -0500 (Mon, 03 Feb 2025) EndedAt: 2025-02-03 16:22:43 -0500 (Mon, 03 Feb 2025) EllapsedTime: 193.1 seconds RetCode: 1 Status: ERROR PackageFile: None PackageFileSize: NA