Package: CINdex Version: 1.37.0 Command: /Library/Frameworks/R.framework/Resources/bin/R CMD build --keep-empty-dirs --no-resave-data CINdex StartedAt: 2025-05-08 15:55:40 -0400 (Thu, 08 May 2025) EndedAt: 2025-05-08 15:57:43 -0400 (Thu, 08 May 2025) EllapsedTime: 123.3 seconds RetCode: 0 Status: OK PackageFile: CINdex_1.37.0.tar.gz PackageFileSize: 12.58 MiB