Package: CHRONOS Version: 1.37.0 Command: rm -rf CHRONOS.buildbin-libdir && mkdir CHRONOS.buildbin-libdir && F:\biocbuild\bbs-3.22-bioc\R\bin\R.exe CMD INSTALL --build --library=CHRONOS.buildbin-libdir CHRONOS_1.37.0.tar.gz StartedAt: 2025-08-15 09:57:35 -0400 (Fri, 15 Aug 2025) EndedAt: 2025-08-15 09:58:18 -0400 (Fri, 15 Aug 2025) EllapsedTime: 42.7 seconds RetCode: 0 Status: OK PackageFile: CHRONOS_1.37.0.zip PackageFileSize: 1.306 MiB