Package: CGHregions Version: 1.65.0 Command: E:\biocbuild\bbs-3.21-bioc\R\bin\R.exe CMD INSTALL CGHregions StartedAt: 2025-02-16 15:27:19 -0500 (Sun, 16 Feb 2025) EndedAt: 2025-02-16 15:27:31 -0500 (Sun, 16 Feb 2025) EllapsedTime: 12.0 seconds RetCode: 0 Status: OK