Package: CGHregions Version: 1.65.0 Command: rm -rf CGHregions.buildbin-libdir && mkdir CGHregions.buildbin-libdir && E:\biocbuild\bbs-3.21-bioc\R\bin\R.exe CMD INSTALL --build --library=CGHregions.buildbin-libdir CGHregions_1.65.0.tar.gz StartedAt: 2025-02-17 07:13:10 -0500 (Mon, 17 Feb 2025) EndedAt: 2025-02-17 07:13:29 -0500 (Mon, 17 Feb 2025) EllapsedTime: 18.8 seconds RetCode: 0 Status: OK PackageFile: CGHregions_1.65.0.zip PackageFileSize: 134.9 KiB