Package: CGHregions Version: 1.67.0 Command: /home/biocbuild/bbs-3.22-bioc/R/bin/R CMD INSTALL CGHregions StartedAt: 2025-09-29 15:14:24 -0400 (Mon, 29 Sep 2025) EndedAt: 2025-09-29 15:14:28 -0400 (Mon, 29 Sep 2025) EllapsedTime: 4.2 seconds RetCode: 0 Status: OK