Package: CGHregions Version: 1.67.0 Command: /home/biocbuild/bbs-3.22-bioc/R/bin/R CMD build --keep-empty-dirs --no-resave-data --md5 CGHregions StartedAt: 2025-09-29 17:02:09 -0400 (Mon, 29 Sep 2025) EndedAt: 2025-09-29 17:02:19 -0400 (Mon, 29 Sep 2025) EllapsedTime: 10.0 seconds RetCode: 0 Status: OK PackageFile: CGHregions_1.67.0.tar.gz PackageFileSize: 213.9 KiB