Package: CGHregions Version: 1.65.0 Command: /Library/Frameworks/R.framework/Resources/bin/R CMD build --keep-empty-dirs --no-resave-data CGHregions StartedAt: 2025-02-16 16:09:41 -0500 (Sun, 16 Feb 2025) EndedAt: 2025-02-16 16:09:56 -0500 (Sun, 16 Feb 2025) EllapsedTime: 14.8 seconds RetCode: 0 Status: OK PackageFile: CGHregions_1.65.0.tar.gz PackageFileSize: 213.1 KiB