Package: CGHregions Version: 1.65.0 Command: /Library/Frameworks/R.framework/Resources/bin/R CMD INSTALL CGHregions StartedAt: 2025-01-31 15:03:43 -0500 (Fri, 31 Jan 2025) EndedAt: 2025-01-31 15:03:46 -0500 (Fri, 31 Jan 2025) EllapsedTime: 2.6 seconds RetCode: 0 Status: OK