Package: CGHregions Version: 1.65.0 Command: /Library/Frameworks/R.framework/Resources/bin/R CMD build --keep-empty-dirs --no-resave-data CGHregions StartedAt: 2025-01-31 15:52:01 -0500 (Fri, 31 Jan 2025) EndedAt: 2025-01-31 15:52:06 -0500 (Fri, 31 Jan 2025) EllapsedTime: 5.1 seconds RetCode: 0 Status: OK PackageFile: CGHregions_1.65.0.tar.gz PackageFileSize: 213.5 KiB