Package: CGHnormaliter Version: 1.63.0 Command: rm -rf CGHnormaliter.buildbin-libdir && mkdir CGHnormaliter.buildbin-libdir && F:\biocbuild\bbs-3.22-bioc\R\bin\R.exe CMD INSTALL --build --library=CGHnormaliter.buildbin-libdir CGHnormaliter_1.63.0.tar.gz StartedAt: 2025-08-15 09:56:18 -0400 (Fri, 15 Aug 2025) EndedAt: 2025-08-15 09:56:43 -0400 (Fri, 15 Aug 2025) EllapsedTime: 24.7 seconds RetCode: 0 Status: OK PackageFile: CGHnormaliter_1.63.0.zip PackageFileSize: 1.145 MiB