Package: CGHnormaliter Version: 1.61.0 Command: rm -rf CGHnormaliter.buildbin-libdir && mkdir CGHnormaliter.buildbin-libdir && /Users/biocbuild/BBS/utils/build-universal.sh CGHnormaliter_1.61.0.tar.gz /Library/Frameworks/R.framework/Resources/bin/R CGHnormaliter.buildbin-libdir StartedAt: 2025-02-17 00:13:57 -0500 (Mon, 17 Feb 2025) EndedAt: 2025-02-17 00:14:07 -0500 (Mon, 17 Feb 2025) EllapsedTime: 9.3 seconds RetCode: 0 Status: OK PackageFile: CGHnormaliter_1.61.0.tgz PackageFileSize: 1.266 MiB