Package: CGHcall Version: 2.71.0 Command: /Library/Frameworks/R.framework/Resources/bin/R CMD INSTALL CGHcall StartedAt: 2025-05-07 15:10:41 -0400 (Wed, 07 May 2025) EndedAt: 2025-05-07 15:10:43 -0400 (Wed, 07 May 2025) EllapsedTime: 2.1 seconds RetCode: 0 Status: OK