Package: CGHcall Version: 2.71.0 Command: /Library/Frameworks/R.framework/Resources/bin/R CMD check --install=check:CGHcall.install-out.txt --library=/Library/Frameworks/R.framework/Resources/library --no-vignettes --timings CGHcall_2.71.0.tar.gz StartedAt: 2025-05-08 18:41:11 -0400 (Thu, 08 May 2025) EndedAt: 2025-05-08 18:41:30 -0400 (Thu, 08 May 2025) EllapsedTime: 18.2 seconds RetCode: 0 Status: WARNINGS CheckDir: CGHcall.Rcheck Warnings: 1