Package: CGHcall Version: 2.71.0 Command: rm -rf CGHcall.buildbin-libdir && mkdir CGHcall.buildbin-libdir && /Users/biocbuild/BBS/utils/build-universal.sh CGHcall_2.71.0.tar.gz /Library/Frameworks/R.framework/Resources/bin/R CGHcall.buildbin-libdir StartedAt: 2025-05-08 23:07:28 -0400 (Thu, 08 May 2025) EndedAt: 2025-05-08 23:07:31 -0400 (Thu, 08 May 2025) EllapsedTime: 3.1 seconds RetCode: 0 Status: OK PackageFile: CGHcall_2.71.0.tgz PackageFileSize: 534 KiB