Package: CGHbase Version: 1.69.0 Command: /home/biocbuild/R/R/bin/R CMD build --keep-empty-dirs --no-resave-data CGHbase StartedAt: 2025-10-20 22:38:04 -0000 (Mon, 20 Oct 2025) EndedAt: 2025-10-20 22:38:06 -0000 (Mon, 20 Oct 2025) EllapsedTime: 2.0 seconds RetCode: 0 Status: OK PackageFile: CGHbase_1.69.0.tar.gz PackageFileSize: 848 KiB