Package: CGHbase Version: 1.67.0 Command: chmod a+r CGHbase -R && E:\biocbuild\bbs-3.21-bioc\R\bin\R.exe CMD build --keep-empty-dirs --no-resave-data CGHbase StartedAt: 2025-02-05 17:51:45 -0500 (Wed, 05 Feb 2025) EndedAt: 2025-02-05 17:51:49 -0500 (Wed, 05 Feb 2025) EllapsedTime: 4.0 seconds RetCode: 0 Status: OK PackageFile: CGHbase_1.67.0.tar.gz PackageFileSize: 848 KiB