Package: CGHbase Version: 1.67.0 Command: /home/biocbuild/bbs-3.21-bioc/R/bin/R CMD INSTALL CGHbase StartedAt: 2025-02-05 15:14:12 -0500 (Wed, 05 Feb 2025) EndedAt: 2025-02-05 15:14:18 -0500 (Wed, 05 Feb 2025) EllapsedTime: 5.9 seconds RetCode: 0 Status: OK