Package: CGHbase
Version: 1.67.0
Command: /home/biocbuild/R/R/bin/R CMD INSTALL CGHbase
StartedAt: 2025-01-29 19:36:11 -0000 (Wed, 29 Jan 2025)
EndedAt: 2025-01-29 19:36:29 -0000 (Wed, 29 Jan 2025)
EllapsedTime: 18.0 seconds
RetCode: 0
Status: OK