Package: CGHbase Version: 1.67.0 Command: /home/biocbuild/R/R/bin/R CMD build --keep-empty-dirs --no-resave-data CGHbase StartedAt: 2025-01-28 21:44:57 -0000 (Tue, 28 Jan 2025) EndedAt: 2025-01-28 21:44:58 -0000 (Tue, 28 Jan 2025) EllapsedTime: 1.0 seconds RetCode: 0 Status: OK PackageFile: CGHbase_1.67.0.tar.gz PackageFileSize: 848 KiB