Package: CGHbase Version: 1.67.0 Command: /Library/Frameworks/R.framework/Resources/bin/R CMD INSTALL CGHbase StartedAt: 2025-02-05 15:03:47 -0500 (Wed, 05 Feb 2025) EndedAt: 2025-02-05 15:03:51 -0500 (Wed, 05 Feb 2025) EllapsedTime: 3.4 seconds RetCode: 0 Status: OK