Package: CGHbase Version: 1.69.0 Command: /Library/Frameworks/R.framework/Resources/bin/R CMD check --install=check:CGHbase.install-out.txt --library=/Library/Frameworks/R.framework/Resources/library --no-vignettes --timings CGHbase_1.69.0.tar.gz StartedAt: 2025-04-27 18:29:30 -0400 (Sun, 27 Apr 2025) EndedAt: 2025-04-27 18:29:49 -0400 (Sun, 27 Apr 2025) EllapsedTime: 18.2 seconds RetCode: 0 Status: OK CheckDir: CGHbase.Rcheck Warnings: 0