Package: CGHbase Version: 1.67.0 Command: /Library/Frameworks/R.framework/Resources/bin/R CMD build --keep-empty-dirs --no-resave-data CGHbase StartedAt: 2025-02-05 15:52:25 -0500 (Wed, 05 Feb 2025) EndedAt: 2025-02-05 15:52:26 -0500 (Wed, 05 Feb 2025) EllapsedTime: 1.0 seconds RetCode: 0 Status: OK PackageFile: CGHbase_1.67.0.tar.gz PackageFileSize: 848 KiB